BEGIN:VCALENDAR
VERSION:2.0
PRODID:-//Gleichcom AG - ECPv6.15.15//NONSGML v1.0//EN
CALSCALE:GREGORIAN
METHOD:PUBLISH
X-WR-CALNAME:Gleichcom AG
X-ORIGINAL-URL:https://www.gleichcom.ch
X-WR-CALDESC:Veranstaltungen für Gleichcom AG
REFRESH-INTERVAL;VALUE=DURATION:PT1H
X-Robots-Tag:noindex
X-PUBLISHED-TTL:PT1H
BEGIN:VTIMEZONE
TZID:Europe/Zurich
BEGIN:DAYLIGHT
TZOFFSETFROM:+0100
TZOFFSETTO:+0200
TZNAME:CEST
DTSTART:20250330T010000
END:DAYLIGHT
BEGIN:STANDARD
TZOFFSETFROM:+0200
TZOFFSETTO:+0100
TZNAME:CET
DTSTART:20251026T010000
END:STANDARD
BEGIN:DAYLIGHT
TZOFFSETFROM:+0100
TZOFFSETTO:+0200
TZNAME:CEST
DTSTART:20260329T010000
END:DAYLIGHT
BEGIN:STANDARD
TZOFFSETFROM:+0200
TZOFFSETTO:+0100
TZNAME:CET
DTSTART:20261025T010000
END:STANDARD
BEGIN:DAYLIGHT
TZOFFSETFROM:+0100
TZOFFSETTO:+0200
TZNAME:CEST
DTSTART:20270328T010000
END:DAYLIGHT
BEGIN:STANDARD
TZOFFSETFROM:+0200
TZOFFSETTO:+0100
TZNAME:CET
DTSTART:20271031T010000
END:STANDARD
END:VTIMEZONE
BEGIN:VEVENT
DTSTART;TZID=Europe/Zurich:20260505T130000
DTEND;TZID=Europe/Zurich:20260505T170000
DTSTAMP:20260425T044617
CREATED:20260115T094448Z
LAST-MODIFIED:20260115T094448Z
UID:2685-1777986000-1778000400@www.gleichcom.ch
SUMMARY:Hörberatung Bern – CI\, Hörgeräte\, Zubehör\, FM- und Signalanlagen und Arbeitsplatzausstattung - Dienstag\, den 5. Mai von 13:00 bis 17:00 Uhr
DESCRIPTION:Hörberatung Bern – CI\, Hörgeräte\, Zubehör\, FM- und Signalanlagen und Arbeitsplatzausstattung\nDie Beratungen sind für alle schwerhörigen und gehörlosen Personen mit Fragen zu Hilfsmitteln. Auch Arbeitgeber\, Schulen und Ämter mit Fragen zur Ausrüstung und Integration am Arbeitsplatz sind willkommen. \n\nInformation/Beratung zu Zubehör für Hörgeräte und CI Träger\nWelche Hörgeräte bieten welche Möglichkeiten?\nNeuen Hörgeräte von Phonak und Resound mit KI (Künstlicher Intelligenz)\nWorauf muss ich beim Kauf achten?\nWie Pflege ich meine Hörgeräte/CI’s?\nWelches CI kommt für mich in Frage und worin Unterscheiden sich die 3 Marken?\nAnträge an IV/AHV und Stiftungen\nArbeitsplatz Integration\nBlinksignalanlagen und weitere Hilfsmittel für Gehörlose\nHöranlagen in öffentlichen Gebäuden und Räumen\nAuracast Beratung\nLupen und Lesegeräte (Nur gegen Voranmeldung)\nDie grösste Auswahl an Hilfsmittel für Hör- und Sehbehinderte\n\nDienstag\, den 5. Mai von 13:00 bis 17:00 Uhr\nWo: Walkerhaus\, Belpstrasse 24\, Bern\nOhne Voranmeldung einfach zu den angegebenen Zeiten vorbeikommen oder\nmit Voranmeldung Termin fixieren unter 041 783 00 80 (Mo-Fr 10.00-12.00/13.00-15.00) oder info@gleichcom.ch\n 
URL:https://www.gleichcom.ch/events/hoerberatung-bern-ci-hoergeraete-zubehoer-fm-und-signalanlagen-und-arbeitsplatzausstattung-dienstag-den-5-mai-von-1300-bis-1700-uhr/
END:VEVENT
BEGIN:VEVENT
DTSTART;TZID=Europe/Zurich:20260519T130000
DTEND;TZID=Europe/Zurich:20260519T170000
DTSTAMP:20260425T044617
CREATED:20251106T095753Z
LAST-MODIFIED:20251106T095753Z
UID:2673-1779195600-1779210000@www.gleichcom.ch
SUMMARY:Hörberatung St. Gallen – CI\, Hörgeräte\, Zubehör\, FM- und Signalanlagen und Arbeitsplatzausstattung - 19. Mai 2026
DESCRIPTION:Hörberatung\nHörberatung St. Gallen – CI\, Hörgeräte\, Zubehör\, FM- und Signalanlagen und Arbeitsplatzausstattung\nDie Beratungen sind für alle schwerhörigen und gehörlosen Personen mit Fragen zu Hilfsmitteln. Auch Arbeitgeber\, Schulen und Ämter mit Fragen zur Ausrüstung und Integration am Arbeitsplatz sind willkommen. \n\nInformation/Beratung zu Zubehör für Hörgeräte und CI Träger\nWelche Hörgeräte bieten welche Möglichkeiten?\nNeuen Hörgeräte von Phonak und Resound mit KI (Künstlicher Intelligenz)\nWorauf muss ich beim Kauf achten?\nWie Pflege ich meine Hörgeräte/CI’s?\nWelches CI kommt für mich in Frage und worin Unterscheiden sich die 3 Marken?\nAnträge an IV/AHV und Stiftungen\nArbeitsplatz Integration\nBlinksignalanlagen und weitere Hilfsmittel für Gehörlose\nHöranlagen in öffentlichen Gebäuden und Räumen\nAuracast Beratung\nLupen und Lesegeräte (Nur gegen Voranmeldung)\nDie grösste Auswahl an Hilfsmittel für Hör- und Sehbehinderte\n\nDienstag\, 19. Mai 2026 von 13.00 bis 17.00 Uhr\nMontag\, 31. August 2026 von 13.00 bis 17.00 Uhr\nMontag\, 2. November 2026 von 13.00 bis 17.00 Uhr\n  \nWo: Pro Audito St. Gallen\, Merkurstrasse 4\, CH-9000 St. Gallen\n\nOhne Voranmeldung einfach zu den angegebenen Zeiten vorbeikommen oder\nmit Voranmeldung Termin fixieren unter 041 783 00 80 (Mo-Fr 10.00-12.00/13.00-15.00) oder info@gleichcom.ch\n 
URL:https://www.gleichcom.ch/events/hoerberatung-st-gallen-ci-hoergeraete-zubehoer-fm-und-signalanlagen-und-arbeitsplatzausstattung-19-mai-2026/
END:VEVENT
BEGIN:VEVENT
DTSTART;TZID=Europe/Zurich:20260630T130000
DTEND;TZID=Europe/Zurich:20260630T170000
DTSTAMP:20260425T044617
CREATED:20260115T094556Z
LAST-MODIFIED:20260115T094556Z
UID:2684-1782824400-1782838800@www.gleichcom.ch
SUMMARY:Hörberatung Bern – CI\, Hörgeräte\, Zubehör\, FM- und Signalanlagen und Arbeitsplatzausstattung - Dienstag\, den 30. Juni von 13:00 bis 17:00 Uhr
DESCRIPTION:Hörberatung Bern – CI\, Hörgeräte\, Zubehör\, FM- und Signalanlagen und Arbeitsplatzausstattung\nDie Beratungen sind für alle schwerhörigen und gehörlosen Personen mit Fragen zu Hilfsmitteln. Auch Arbeitgeber\, Schulen und Ämter mit Fragen zur Ausrüstung und Integration am Arbeitsplatz sind willkommen. \n\nInformation/Beratung zu Zubehör für Hörgeräte und CI Träger\nWelche Hörgeräte bieten welche Möglichkeiten?\nNeuen Hörgeräte von Phonak und Resound mit KI (Künstlicher Intelligenz)\nWorauf muss ich beim Kauf achten?\nWie Pflege ich meine Hörgeräte/CI’s?\nWelches CI kommt für mich in Frage und worin Unterscheiden sich die 3 Marken?\nAnträge an IV/AHV und Stiftungen\nArbeitsplatz Integration\nBlinksignalanlagen und weitere Hilfsmittel für Gehörlose\nHöranlagen in öffentlichen Gebäuden und Räumen\nAuracast Beratung\nLupen und Lesegeräte (Nur gegen Voranmeldung)\nDie grösste Auswahl an Hilfsmittel für Hör- und Sehbehinderte\n\nDienstag\, den 30. Juni von 13:00 bis 17:00 Uhr\nWo: Walkerhaus\, Belpstrasse 24\, Bern\nOhne Voranmeldung einfach zu den angegebenen Zeiten vorbeikommen oder\nmit Voranmeldung Termin fixieren unter 041 783 00 80 (Mo-Fr 10.00-12.00/13.00-15.00) oder info@gleichcom.ch\n 
URL:https://www.gleichcom.ch/events/hoerberatung-bern-ci-hoergeraete-zubehoer-fm-und-signalanlagen-und-arbeitsplatzausstattung-dienstag-den-30-juni-von-1300-bis-1700-uhr/
END:VEVENT
BEGIN:VEVENT
DTSTART;TZID=Europe/Zurich:20260831T130000
DTEND;TZID=Europe/Zurich:20260831T170000
DTSTAMP:20260425T044617
CREATED:20251106T095900Z
LAST-MODIFIED:20251106T095900Z
UID:2675-1788181200-1788195600@www.gleichcom.ch
SUMMARY:Hörberatung St. Gallen – CI\, Hörgeräte\, Zubehör\, FM- und Signalanlagen und Arbeitsplatzausstattung - 31. August 2026
DESCRIPTION:Hörberatung\nHörberatung St. Gallen – CI\, Hörgeräte\, Zubehör\, FM- und Signalanlagen und Arbeitsplatzausstattung\nDie Beratungen sind für alle schwerhörigen und gehörlosen Personen mit Fragen zu Hilfsmitteln. Auch Arbeitgeber\, Schulen und Ämter mit Fragen zur Ausrüstung und Integration am Arbeitsplatz sind willkommen. \n\nInformation/Beratung zu Zubehör für Hörgeräte und CI Träger\nWelche Hörgeräte bieten welche Möglichkeiten?\nNeuen Hörgeräte von Phonak und Resound mit KI (Künstlicher Intelligenz)\nWorauf muss ich beim Kauf achten?\nWie Pflege ich meine Hörgeräte/CI’s?\nWelches CI kommt für mich in Frage und worin Unterscheiden sich die 3 Marken?\nAnträge an IV/AHV und Stiftungen\nArbeitsplatz Integration\nBlinksignalanlagen und weitere Hilfsmittel für Gehörlose\nHöranlagen in öffentlichen Gebäuden und Räumen\nAuracast Beratung\nLupen und Lesegeräte (Nur gegen Voranmeldung)\nDie grösste Auswahl an Hilfsmittel für Hör- und Sehbehinderte\n\nMontag\, 31. August 2026 von 13.00 bis 17.00 Uhr\nMontag\, 2. November 2026 von 13.00 bis 17.00 Uhr\n  \nWo: Pro Audito St. Gallen\, Merkurstrasse 4\, CH-9000 St. Gallen\n\nOhne Voranmeldung einfach zu den angegebenen Zeiten vorbeikommen oder\nmit Voranmeldung Termin fixieren unter 041 783 00 80 (Mo-Fr 10.00-12.00/13.00-15.00) oder info@gleichcom.ch\n 
URL:https://www.gleichcom.ch/events/hoerberatung-st-gallen-ci-hoergeraete-zubehoer-fm-und-signalanlagen-und-arbeitsplatzausstattung-31-august-2026/
END:VEVENT
BEGIN:VEVENT
DTSTART;TZID=Europe/Zurich:20261102T130000
DTEND;TZID=Europe/Zurich:20261102T170000
DTSTAMP:20260425T044617
CREATED:20251106T095945Z
LAST-MODIFIED:20251106T095945Z
UID:2677-1793624400-1793638800@www.gleichcom.ch
SUMMARY:Hörberatung St. Gallen – CI\, Hörgeräte\, Zubehör\, FM- und Signalanlagen und Arbeitsplatzausstattung - 2. November 2026
DESCRIPTION:Hörberatung\nHörberatung St. Gallen – CI\, Hörgeräte\, Zubehör\, FM- und Signalanlagen und Arbeitsplatzausstattung\nDie Beratungen sind für alle schwerhörigen und gehörlosen Personen mit Fragen zu Hilfsmitteln. Auch Arbeitgeber\, Schulen und Ämter mit Fragen zur Ausrüstung und Integration am Arbeitsplatz sind willkommen. \n\nInformation/Beratung zu Zubehör für Hörgeräte und CI Träger\nWelche Hörgeräte bieten welche Möglichkeiten?\nNeuen Hörgeräte von Phonak und Resound mit KI (Künstlicher Intelligenz)\nWorauf muss ich beim Kauf achten?\nWie Pflege ich meine Hörgeräte/CI’s?\nWelches CI kommt für mich in Frage und worin Unterscheiden sich die 3 Marken?\nAnträge an IV/AHV und Stiftungen\nArbeitsplatz Integration\nBlinksignalanlagen und weitere Hilfsmittel für Gehörlose\nHöranlagen in öffentlichen Gebäuden und Räumen\nAuracast Beratung\nLupen und Lesegeräte (Nur gegen Voranmeldung)\nDie grösste Auswahl an Hilfsmittel für Hör- und Sehbehinderte\n\nMontag\, 2. November 2026 von 13.00 bis 17.00 Uhr\n  \nWo: Pro Audito St. Gallen\, Merkurstrasse 4\, CH-9000 St. Gallen\n\nOhne Voranmeldung einfach zu den angegebenen Zeiten vorbeikommen oder\nmit Voranmeldung Termin fixieren unter 041 783 00 80 (Mo-Fr 10.00-12.00/13.00-15.00) oder info@gleichcom.ch\n 
URL:https://www.gleichcom.ch/events/hoerberatung-st-gallen-ci-hoergeraete-zubehoer-fm-und-signalanlagen-und-arbeitsplatzausstattung-2-november-2026/
END:VEVENT
END:VCALENDAR